BEGIN:VCALENDAR
VERSION:2.0
PRODID:-//welante.ch////DE 21.04.2026 09:24
METHOD:PUBLISH
BEGIN:VTIMEZONE
TZID:Europe/Zurich
X-LIC-LOCATION:Europe/Zurich
BEGIN:STANDARD
DTSTART:16011028T030000
RRULE:FREQ=YEARLY;BYDAY=-1SU;BYMONTH=10
TZOFFSETFROM:+0200
TZOFFSETTO:+0100
END:STANDARD
BEGIN:DAYLIGHT
DTSTART:16010325T020000
RRULE:FREQ=YEARLY;BYDAY=-1SU;BYMONTH=3
TZOFFSETFROM:+0100
TZOFFSETTO:+0200
END:DAYLIGHT
END:VTIMEZONE
BEGIN:VEVENT
CLASS:PUBLIC
UID:3a0b27457b97cd09e7c1f80aace81eee
DTSTAMP:20250203T164934Z
DTSTART;TZID=Europe/Zurich:20240916T093000
DTEND;TZID=Europe/Zurich:20240916T110000
LOCATION:Bettli Raum 210, Stiftung WBK, Grüze 4 / Turnhalle, Sekundarschule Dübendorf-Schwerzenbach, Wallisellen Atelier, WBK @ SMGV, Wallisellen 1, WBK @ SMGV, Küche OG, Römisch-katholische Kirchgemeinde Dübendorf, Bettli Cafeteria, Stiftung WBK, Bettli Raum 216, Stiftung WBK, Bettli Raum 212, Stiftung WBK, Bettli Raum 211, Stiftung WBK
DESCRIPTION:Mit: Kostadinova-Mama Silvia\, Nsangu-Tusevo Andre\, Papastergios Alexis\, Behluli Mimoza\, Komorowski Christian Max\, Abdullahi Mohamed Hodan\, Trollius Antonia\, Burkhardt Ellen\, Lantz Nataly\, Vitaliano Tiziana\, Lutz Angelika\, Leuthold Biljana\, Machleidt Elvina\, Bajrami Flatron\, Kolb Maite\, Widmer Markus Andreas\n\nTermine:\n16.09.2024 09:30 Stiftung WBK\n16.09.2024 11:30 Stiftung WBK\n16.09.2024 13:45 Sekundarschule Dübendorf-Schwerzenbach\n16.09.2024 15:45 Sekundarschule Dübendorf-Schwerzenbach\n17.09.2024 09:30 Stiftung WBK\n17.09.2024 11:30 Stiftung WBK\n18.09.2024 09:30 Stiftung WBK\n18.09.2024 11:30 Stiftung WBK\n18.09.2024 13:45 Stiftung WBK\n18.09.2024 15:45 Stiftung WBK\n19.09.2024 09:30 WBK @ SMGV\n19.09.2024 11:30 WBK @ SMGV\n19.09.2024 13:45 WBK @ SMGV\n19.09.2024 15:45 WBK @ SMGV\n20.09.2024 09:30 WBK @ SMGV\n20.09.2024 11:30 WBK @ SMGV\n23.09.2024 09:30 Stiftung WBK\n23.09.2024 11:30 Stiftung WBK\n23.09.2024 13:45 Sekundarschule Dübendorf-Schwerzenbach\n23.09.2024 15:45 Sekundarschule Dübendorf-Schwerzenbach\n24.09.2024 09:30 Stiftung WBK\n24.09.2024 11:30 Stiftung WBK\n25.09.2024 09:30 Römisch-katholische Kirchgemeinde Dübendorf\n25.09.2024 11:30 Römisch-katholische Kirchgemeinde Dübendorf\n25.09.2024 13:45 Stiftung WBK\n25.09.2024 15:45 Stiftung WBK\n26.09.2024 09:30 WBK @ SMGV\n26.09.2024 11:30 WBK @ SMGV\n26.09.2024 13:45 WBK @ SMGV\n26.09.2024 15:45 WBK @ SMGV\n27.09.2024 09:30 WBK @ SMGV\n27.09.2024 11:30 WBK @ SMGV\n30.09.2024 09:30 Stiftung WBK\n30.09.2024 11:30 Stiftung WBK\n30.09.2024 13:45 Sekundarschule Dübendorf-Schwerzenbach\n30.09.2024 15:45 Sekundarschule Dübendorf-Schwerzenbach\n01.10.2024 09:30 Stiftung WBK\n01.10.2024 11:30 Stiftung WBK\n02.10.2024 09:30 Stiftung WBK\n02.10.2024 11:30 Stiftung WBK\n02.10.2024 13:45 Stiftung WBK\n02.10.2024 15:45 Stiftung WBK\n03.10.2024 09:30 WBK @ SMGV\n03.10.2024 11:30 WBK @ SMGV\n03.10.2024 13:45 WBK @ SMGV\n03.10.2024 15:45 WBK @ SMGV\n04.10.2024 09:30 WBK @ SMGV\n04.10.2024 11:30 WBK @ SMGV\n07.10.2024 09:30 Stiftung WBK\n07.10.2024 11:30 Stiftung WBK\n07.10.2024 13:45 Sekundarschule Dübendorf-Schwerzenbach\n07.10.2024 15:45 Sekundarschule Dübendorf-Schwerzenbach\n08.10.2024 09:30 Stiftung WBK\n08.10.2024 11:30 Stiftung WBK\n09.10.2024 09:30 Stiftung WBK\n09.10.2024 11:30 Stiftung WBK\n09.10.2024 13:45 Stiftung WBK\n09.10.2024 15:45 Stiftung WBK\n10.10.2024 09:30 WBK @ SMGV\n10.10.2024 11:30 WBK @ SMGV\n10.10.2024 13:45 WBK @ SMGV\n10.10.2024 15:45 WBK @ SMGV\n21.10.2024 09:30 Stiftung WBK\n21.10.2024 11:30 Stiftung WBK\n21.10.2024 13:45 Sekundarschule Dübendorf-Schwerzenbach\n21.10.2024 15:45 Sekundarschule Dübendorf-Schwerzenbach\n22.10.2024 09:30 Stiftung WBK\n22.10.2024 11:30 Stiftung WBK\n23.10.2024 09:30 Stiftung WBK\n23.10.2024 11:30 Stiftung WBK\n23.10.2024 13:45 Stiftung WBK\n23.10.2024 15:45 Stiftung WBK\n24.10.2024 09:30 WBK @ SMGV\n24.10.2024 11:30 WBK @ SMGV\n24.10.2024 13:45 WBK @ SMGV\n24.10.2024 15:45 WBK @ SMGV\n25.10.2024 09:30 WBK @ SMGV\n25.10.2024 11:30 WBK @ SMGV\n28.10.2024 09:30 Stiftung WBK\n28.10.2024 11:30 Stiftung WBK\n28.10.2024 13:45 Sekundarschule Dübendorf-Schwerzenbach\n28.10.2024 15:45 Sekundarschule Dübendorf-Schwerzenbach\n29.10.2024 09:30 Stiftung WBK\n29.10.2024 11:30 Stiftung WBK\n30.10.2024 09:30 Römisch-katholische Kirchgemeinde Dübendorf\n30.10.2024 11:30 Römisch-katholische Kirchgemeinde Dübendorf\n30.10.2024 13:45 Stiftung WBK\n30.10.2024 15:45 Stiftung WBK\n31.10.2024 09:30 WBK @ SMGV\n31.10.2024 11:30 WBK @ SMGV\n31.10.2024 13:45 WBK @ SMGV\n31.10.2024 15:45 WBK @ SMGV\n01.11.2024 09:30 WBK @ SMGV\n01.11.2024 11:30 WBK @ SMGV\n04.11.2024 09:30 Stiftung WBK\n04.11.2024 11:30 Stiftung WBK\n04.11.2024 13:45 Sekundarschule Dübendorf-Schwerzenbach\n04.11.2024 15:45 Sekundarschule Dübendorf-Schwerzenbach\n05.11.2024 09:30 Stiftung WBK\n05.11.2024 11:30 Stiftung WBK\n06.11.2024 09:30 Stiftung WBK\n06.11.2024 11:30 Stiftung WBK\n06.11.2024 13:45 Stiftung WBK\n06.11.2024 15:45 Stiftung WBK\n07.11.2024 09:30 WBK @ SMGV\n07.11.2024 11:30 WBK @ SMGV\n07.11.2024 13:45 WBK @ SMGV\n07.11.2024 15:45 WBK @ SMGV\n08.11.2024 09:30 WBK @ SMGV\n08.11.2024 11:30 WBK @ SMGV\n11.11.2024 09:30 Stiftung WBK\n11.11.2024 11:30 Stiftung WBK\n11.11.2024 13:45 Sekundarschule Dübendorf-Schwerzenbach\n11.11.2024 15:45 Sekundarschule Dübendorf-Schwerzenbach\n12.11.2024 09:30 Stiftung WBK\n12.11.2024 11:30 Stiftung WBK\n13.11.2024 09:30 Römisch-katholische Kirchgemeinde Dübendorf\n13.11.2024 11:30 Römisch-katholische Kirchgemeinde Dübendorf\n13.11.2024 13:45 Stiftung WBK\n13.11.2024 15:45 Stiftung WBK\n14.11.2024 09:30 WBK @ SMGV\n14.11.2024 11:30 WBK @ SMGV\n14.11.2024 13:45 WBK @ SMGV\n14.11.2024 15:45 WBK @ SMGV\n15.11.2024 09:30 WBK @ SMGV\n15.11.2024 11:30 WBK @ SMGV\n18.11.2024 09:30 Stiftung WBK\n18.11.2024 11:30 Stiftung WBK\n18.11.2024 13:45 Sekundarschule Dübendorf-Schwerzenbach\n18.11.2024 15:45 Sekundarschule Dübendorf-Schwerzenbach\n19.11.2024 09:30 Stiftung WBK\n19.11.2024 11:30 Stiftung WBK\n20.11.2024 09:30 Stiftung WBK\n20.11.2024 11:30 Stiftung WBK\n20.11.2024 13:45 Stiftung WBK\n20.11.2024 15:45 Stiftung WBK\n21.11.2024 09:30 WBK @ SMGV\n21.11.2024 11:30 WBK @ SMGV\n21.11.2024 13:45 Stiftung WBK\n21.11.2024 15:45 Stiftung WBK\n22.11.2024 09:30 WBK @ SMGV\n22.11.2024 11:30 WBK @ SMGV\n25.11.2024 09:30 Stiftung WBK\n25.11.2024 11:30 Stiftung WBK\n25.11.2024 13:45 Sekundarschule Dübendorf-Schwerzenbach\n25.11.2024 15:45 Sekundarschule Dübendorf-Schwerzenbach\n26.11.2024 09:30 Stiftung WBK\n26.11.2024 11:30 Stiftung WBK\n27.11.2024 09:30 Römisch-katholische Kirchgemeinde Dübendorf\n27.11.2024 11:30 Römisch-katholische Kirchgemeinde Dübendorf\n27.11.2024 13:45 Stiftung WBK\n27.11.2024 15:45 Stiftung WBK\n28.11.2024 09:30 WBK @ SMGV\n28.11.2024 11:30 WBK @ SMGV\n28.11.2024 13:45 WBK @ SMGV\n28.11.2024 15:45 WBK @ SMGV\n29.11.2024 09:30 WBK @ SMGV\n29.11.2024 11:30 WBK @ SMGV\n02.12.2024 09:30 Stiftung WBK\n02.12.2024 11:30 Stiftung WBK\n02.12.2024 13:45 Sekundarschule Dübendorf-Schwerzenbach\n02.12.2024 15:45 Sekundarschule Dübendorf-Schwerzenbach\n03.12.2024 09:30 Stiftung WBK\n03.12.2024 11:30 Stiftung WBK\n04.12.2024 09:30 Stiftung WBK\n04.12.2024 11:30 Stiftung WBK\n04.12.2024 13:45 Stiftung WBK\n04.12.2024 15:45 Stiftung WBK\n05.12.2024 09:30 Stiftung WBK\n05.12.2024 11:30 Stiftung WBK\n05.12.2024 13:45 Stiftung WBK\n05.12.2024 15:45 WBK @ SMGV\n06.12.2024 09:30 Stiftung WBK\n06.12.2024 11:30 Stiftung WBK\n09.12.2024 09:30 Stiftung WBK\n09.12.2024 11:30 Stiftung WBK\n09.12.2024 13:45 Sekundarschule Dübendorf-Schwerzenbach\n09.12.2024 15:45 Sekundarschule Dübendorf-Schwerzenbach\n10.12.2024 09:30 Stiftung WBK\n10.12.2024 11:30 Stiftung WBK\n11.12.2024 09:30 Römisch-katholische Kirchgemeinde Dübendorf\n11.12.2024 11:30 Römisch-katholische Kirchgemeinde Dübendorf\n11.12.2024 13:45 Stiftung WBK\n11.12.2024 15:45 Stiftung WBK\n12.12.2024 09:30 WBK @ SMGV\n12.12.2024 11:30 WBK @ SMGV\n12.12.2024 13:45 WBK @ SMGV\n12.12.2024 15:45 WBK @ SMGV\n13.12.2024 09:30 WBK @ SMGV\n13.12.2024 11:30 WBK @ SMGV\n16.12.2024 09:30 Stiftung WBK\n16.12.2024 11:30 Stiftung WBK\n16.12.2024 13:45 Sekundarschule Dübendorf-Schwerzenbach\n16.12.2024 15:45 Sekundarschule Dübendorf-Schwerzenbach\n17.12.2024 09:30 Stiftung WBK\n17.12.2024 11:30 Stiftung WBK\n18.12.2024 09:30 Stiftung WBK\n18.12.2024 11:30 Stiftung WBK\n18.12.2024 13:45 Stiftung WBK\n18.12.2024 15:45 Stiftung WBK\n19.12.2024 09:30 WBK @ SMGV\n19.12.2024 11:30 WBK @ SMGV\n19.12.2024 13:45 WBK @ SMGV\n19.12.2024 15:45 WBK @ SMGV\n20.12.2024 09:30 WBK @ SMGV\n20.12.2024 11:30 WBK @ SMGV\n06.01.2025 09:30 Stiftung WBK\n06.01.2025 11:30 Stiftung WBK\n06.01.2025 13:45 Sekundarschule Dübendorf-Schwerzenbach\n06.01.2025 15:45 Sekundarschule Dübendorf-Schwerzenbach\n07.01.2025 09:30 Stiftung WBK\n07.01.2025 11:30 Stiftung WBK\n08.01.2025 09:30 Römisch-katholische Kirchgemeinde Dübendorf\n08.01.2025 11:30 Römisch-katholische Kirchgemeinde Dübendorf\n08.01.2025 13:45 Stiftung WBK\n08.01.2025 15:45 Stiftung WBK\n09.01.2025 09:30 WBK @ SMGV\n09.01.2025 11:30 WBK @ SMGV\n09.01.2025 13:45 WBK @ SMGV\n09.01.2025 15:45 WBK @ SMGV\n10.01.2025 09:30 WBK @ SMGV\n10.01.2025 11:30 WBK @ SMGV\n13.01.2025 09:30 Stiftung WBK\n13.01.2025 11:30 Stiftung WBK\n13.01.2025 13:45 Sekundarschule Dübendorf-Schwerzenbach\n13.01.2025 15:45 Sekundarschule Dübendorf-Schwerzenbach\n14.01.2025 09:30 Stiftung WBK\n14.01.2025 11:30 Stiftung WBK\n15.01.2025 09:30 Stiftung WBK\n15.01.2025 11:30 Stiftung WBK\n15.01.2025 13:45 Stiftung WBK\n15.01.2025 15:45 Stiftung WBK\n16.01.2025 09:30 WBK @ SMGV\n16.01.2025 11:30 WBK @ SMGV\n16.01.2025 13:45 WBK @ SMGV\n16.01.2025 15:45 WBK @ SMGV\n17.01.2025 09:30 WBK @ SMGV\n17.01.2025 11:30 WBK @ SMGV\n20.01.2025 09:30 Stiftung WBK\n20.01.2025 11:30 Stiftung WBK\n20.01.2025 13:45 Sekundarschule Dübendorf-Schwerzenbach\n20.01.2025 15:45 Sekundarschule Dübendorf-Schwerzenbach\n21.01.2025 09:30 Stiftung WBK\n21.01.2025 11:30 Stiftung WBK\n22.01.2025 09:30 Römisch-katholische Kirchgemeinde Dübendorf\n22.01.2025 11:30 Römisch-katholische Kirchgemeinde Dübendorf\n22.01.2025 13:45 Stiftung WBK\n22.01.2025 15:45 Stiftung WBK\n23.01.2025 09:30 WBK @ SMGV\n23.01.2025 11:30 WBK @ SMGV\n23.01.2025 13:45 WBK @ SMGV\n23.01.2025 15:45 WBK @ SMGV\n24.01.2025 09:30 WBK @ SMGV\n24.01.2025 11:30 WBK @ SMGV\n27.01.2025 09:30 Stiftung WBK\n27.01.2025 11:30 Stiftung WBK\n27.01.2025 13:45 Sekundarschule Dübendorf-Schwerzenbach\n27.01.2025 15:45 Sekundarschule Dübendorf-Schwerzenbach\n28.01.2025 09:30 Stiftung WBK\n28.01.2025 11:30 Stiftung WBK\n29.01.2025 09:30 Stiftung WBK\n29.01.2025 11:30 Stiftung WBK\n29.01.2025 13:45 Stiftung WBK\n29.01.2025 15:45 Stiftung WBK\n30.01.2025 09:30 WBK @ SMGV\n30.01.2025 11:30 WBK @ SMGV\n30.01.2025 13:45 WBK @ SMGV\n30.01.2025 15:45 WBK @ SMGV\n31.01.2025 09:30 WBK @ SMGV\n31.01.2025 11:30 WBK @ SMGV\n03.02.2025 09:30 Stiftung WBK\n03.02.2025 11:30 Stiftung WBK\n03.02.2025 13:45 Sekundarschule Dübendorf-Schwerzenbach\n03.02.2025 15:45 Sekundarschule Dübendorf-Schwerzenbach\n04.02.2025 09:30 Stiftung WBK\n04.02.2025 11:30 Stiftung WBK\n05.02.2025 09:30 Stiftung WBK\n05.02.2025 11:30 Stiftung WBK\n05.02.2025 13:45 Stiftung WBK\n05.02.2025 15:45 Stiftung WBK\n06.02.2025 09:30 WBK @ SMGV\n06.02.2025 11:30 WBK @ SMGV\n06.02.2025 13:45 WBK @ SMGV\n06.02.2025 15:45 WBK @ SMGV\n07.02.2025 09:30 WBK @ SMGV\n07.02.2025 11:30 WBK @ SMGV\n24.02.2025 09:30 Stiftung WBK\n24.02.2025 11:30 Stiftung WBK\n24.02.2025 13:45 Sekundarschule Dübendorf-Schwerzenbach\n24.02.2025 15:45 Sekundarschule Dübendorf-Schwerzenbach\n25.02.2025 09:30 Stiftung WBK\n25.02.2025 11:30 Stiftung WBK\n26.02.2025 09:30 Stiftung WBK\n26.02.2025 11:30 Stiftung WBK\n26.02.2025 13:45 Stiftung WBK\n26.02.2025 15:45 Stiftung WBK\n27.02.2025 09:30 WBK @ SMGV\n27.02.2025 11:30 WBK @ SMGV\n27.02.2025 13:45 WBK @ SMGV\n27.02.2025 15:45 WBK @ SMGV\n28.02.2025 09:30 WBK @ SMGV\n28.02.2025 11:30 WBK @ SMGV\n03.03.2025 09:30 Stiftung WBK\n03.03.2025 11:30 Stiftung WBK\n03.03.2025 13:45 Sekundarschule Dübendorf-Schwerzenbach\n03.03.2025 15:45 Sekundarschule Dübendorf-Schwerzenbach\n04.03.2025 09:30 Stiftung WBK\n04.03.2025 11:30 Stiftung WBK\n05.03.2025 09:30 Römisch-katholische Kirchgemeinde Dübendorf\n05.03.2025 11:30 Römisch-katholische Kirchgemeinde Dübendorf\n05.03.2025 13:45 Stiftung WBK\n05.03.2025 15:45 Stiftung WBK\n06.03.2025 09:30 WBK @ SMGV\n06.03.2025 11:30 WBK @ SMGV\n06.03.2025 13:45 WBK @ SMGV\n06.03.2025 15:45 WBK @ SMGV\n07.03.2025 09:30 WBK @ SMGV\n07.03.2025 11:30 WBK @ SMGV
URL;VALUE=URI:
SUMMARY:24-MNA-2402B Alpha MNA 2/2 (Ganztagesstruktur) B
LAST-MODIFIED:20250513T131608Z
RRULE:FREQ=WEEKLY;UNTIL=20250307T120000Z;WKST=SU;BYDAY=MO,TU,WE,TH,FR
EXDATE;TZID=Europe/Zurich:20240916T073000Z,20240917T073000Z,20240918T073000Z,20240919T073000Z,20240920T073000Z,20240923T073000Z,20240924T073000Z,20240925T073000Z,20240926T073000Z,20240927T073000Z,20240930T073000Z,20241001T073000Z,20241002T073000Z,20241003T073000Z,20241004T073000Z,20241007T073000Z,20241008T073000Z,20241009T073000Z,20241010T073000Z,20241011T073000Z,20241014T073000Z,20241015T073000Z,20241016T073000Z,20241017T073000Z,20241018T073000Z,20241021T073000Z,20241022T073000Z,20241023T073000Z,20241024T073000Z,20241025T073000Z,20241028T083000Z,20241029T083000Z,20241030T083000Z,20241031T083000Z,20241101T083000Z,20241104T083000Z,20241105T083000Z,20241106T083000Z,20241107T083000Z,20241108T083000Z,20241111T083000Z,20241112T083000Z,20241113T083000Z,20241114T083000Z,20241115T083000Z,20241118T083000Z,20241119T083000Z,20241120T083000Z,20241121T083000Z,20241122T083000Z,20241125T083000Z,20241126T083000Z,20241127T083000Z,20241128T083000Z,20241129T083000Z,20241202T083000Z,20241203T083000Z,20241204T083000Z,20241205T083000Z,20241206T083000Z,20241209T083000Z,20241210T083000Z,20241211T083000Z,20241212T083000Z,20241213T083000Z,20241216T083000Z,20241217T083000Z,20241218T083000Z,20241219T083000Z,20241220T083000Z,20241223T083000Z,20241224T083000Z,20241225T083000Z,20241226T083000Z,20241227T083000Z,20241230T083000Z,20241231T083000Z,20250101T083000Z,20250102T083000Z,20250103T083000Z,20250106T083000Z,20250107T083000Z,20250108T083000Z,20250109T083000Z,20250110T083000Z,20250113T083000Z,20250114T083000Z,20250115T083000Z,20250116T083000Z,20250117T083000Z,20250120T083000Z,20250121T083000Z,20250122T083000Z,20250123T083000Z,20250124T083000Z,20250127T083000Z,20250128T083000Z,20250129T083000Z,20250130T083000Z,20250131T083000Z,20250203T083000Z,20250204T083000Z,20250205T083000Z,20250206T083000Z,20250207T083000Z,20250210T083000Z,20250211T083000Z,20250212T083000Z,20250213T083000Z,20250214T083000Z,20250217T083000Z,20250218T083000Z,20250219T083000Z,20250220T083000Z,20250221T083000Z,20250224T083000Z,20250225T083000Z,20250226T083000Z,20250227T083000Z,20250228T083000Z,20250303T083000Z,20250304T083000Z,20250305T083000Z,20250306T083000Z,20250307T083000Z
RDATE;VALUE=PERIOD:20240916T134500Z/20240916T151500Z,20240917T093000Z/20240917T110000Z,20240918T134500Z/20240918T151500Z,20240919T134500Z/20240919T151500Z,20240920T093000Z/20240920T110000Z,20240923T134500Z/20240923T151500Z,20240924T093000Z/20240924T110000Z,20240925T134500Z/20240925T151500Z,20240926T134500Z/20240926T151500Z,20240927T093000Z/20240927T110000Z,20240930T134500Z/20240930T151500Z,20241001T093000Z/20241001T110000Z,20241002T134500Z/20241002T151500Z,20241003T134500Z/20241003T151500Z,20241004T093000Z/20241004T110000Z,20241007T134500Z/20241007T151500Z,20241008T093000Z/20241008T110000Z,20241009T134500Z/20241009T151500Z,20241010T134500Z/20241010T151500Z,20241021T134500Z/20241021T151500Z,20241022T093000Z/20241022T110000Z,20241023T134500Z/20241023T151500Z,20241024T134500Z/20241024T151500Z,20241025T093000Z/20241025T110000Z,20241028T144500Z/20241028T161500Z,20241029T103000Z/20241029T120000Z,20241030T144500Z/20241030T161500Z,20241031T144500Z/20241031T161500Z,20241101T103000Z/20241101T120000Z,20241104T144500Z/20241104T161500Z,20241105T103000Z/20241105T120000Z,20241106T144500Z/20241106T161500Z,20241107T144500Z/20241107T161500Z,20241108T103000Z/20241108T120000Z,20241111T144500Z/20241111T161500Z,20241112T103000Z/20241112T120000Z,20241113T144500Z/20241113T161500Z,20241114T144500Z/20241114T161500Z,20241115T103000Z/20241115T120000Z,20241118T144500Z/20241118T161500Z,20241119T103000Z/20241119T120000Z,20241120T144500Z/20241120T161500Z,20241121T144500Z/20241121T161500Z,20241122T103000Z/20241122T120000Z,20241125T144500Z/20241125T161500Z,20241126T103000Z/20241126T120000Z,20241127T144500Z/20241127T161500Z,20241128T144500Z/20241128T161500Z,20241129T103000Z/20241129T120000Z,20241202T144500Z/20241202T161500Z,20241203T103000Z/20241203T120000Z,20241204T144500Z/20241204T161500Z,20241205T144500Z/20241205T161500Z,20241206T103000Z/20241206T120000Z,20241209T144500Z/20241209T161500Z,20241210T103000Z/20241210T120000Z,20241211T144500Z/20241211T161500Z,20241212T144500Z/20241212T161500Z,20241213T103000Z/20241213T120000Z,20241216T144500Z/20241216T161500Z,20241217T103000Z/20241217T120000Z,20241218T144500Z/20241218T161500Z,20241219T144500Z/20241219T161500Z,20241220T103000Z/20241220T120000Z,20250106T144500Z/20250106T161500Z,20250107T103000Z/20250107T120000Z,20250108T144500Z/20250108T161500Z,20250109T144500Z/20250109T161500Z,20250110T103000Z/20250110T120000Z,20250113T144500Z/20250113T161500Z,20250114T103000Z/20250114T120000Z,20250115T144500Z/20250115T161500Z,20250116T144500Z/20250116T161500Z,20250117T103000Z/20250117T120000Z,20250120T144500Z/20250120T161500Z,20250121T103000Z/20250121T120000Z,20250122T144500Z/20250122T161500Z,20250123T144500Z/20250123T161500Z,20250124T103000Z/20250124T120000Z,20250127T144500Z/20250127T161500Z,20250128T103000Z/20250128T120000Z,20250129T144500Z/20250129T161500Z,20250130T144500Z/20250130T161500Z,20250131T103000Z/20250131T120000Z,20250203T144500Z/20250203T161500Z,20250204T103000Z/20250204T120000Z,20250205T144500Z/20250205T161500Z,20250206T144500Z/20250206T161500Z,20250207T103000Z/20250207T120000Z,20250224T144500Z/20250224T161500Z,20250225T103000Z/20250225T120000Z,20250226T144500Z/20250226T161500Z,20250227T144500Z/20250227T161500Z,20250228T103000Z/20250228T120000Z,20250303T144500Z/20250303T161500Z,20250304T103000Z/20250304T120000Z,20250305T144500Z/20250305T161500Z,20250306T144500Z/20250306T161500Z,20250307T103000Z/20250307T120000Z/PT3H
END:VEVENT
END:VCALENDAR