BEGIN:VCALENDAR
VERSION:2.0
PRODID:-//welante.ch////DE 21.04.2026 10:10
METHOD:PUBLISH
BEGIN:VTIMEZONE
TZID:Europe/Zurich
X-LIC-LOCATION:Europe/Zurich
BEGIN:STANDARD
DTSTART:16011028T030000
RRULE:FREQ=YEARLY;BYDAY=-1SU;BYMONTH=10
TZOFFSETFROM:+0200
TZOFFSETTO:+0100
END:STANDARD
BEGIN:DAYLIGHT
DTSTART:16010325T020000
RRULE:FREQ=YEARLY;BYDAY=-1SU;BYMONTH=3
TZOFFSETFROM:+0100
TZOFFSETTO:+0200
END:DAYLIGHT
END:VTIMEZONE
BEGIN:VEVENT
CLASS:PUBLIC
UID:a676e9985a4a0a0caeae419bb658eaa6
DTSTAMP:20251217T150313Z
DTSTART;TZID=Europe/Zurich:20260827T180000
DTEND;TZID=Europe/Zurich:20260827T201500
LOCATION:tba, Stiftung WBK
DESCRIPTION:\nTermine:\n27.08.2026 18:00\n03.09.2026 18:00\n10.09.2026 18:00\n17.09.2026 18:00\n24.09.2026 18:00
URL;VALUE=URI:
SUMMARY:26S-SFDS-2601 So funktioniert die Schweiz
LAST-MODIFIED:20260414T085211Z
RRULE:FREQ=WEEKLY;UNTIL=20260924T181500Z;WKST=SU;BYDAY=TH
END:VEVENT
END:VCALENDAR