BEGIN:VCALENDAR
VERSION:2.0
PRODID:-//welante.ch////DE 20.04.2026 19:00
METHOD:PUBLISH
BEGIN:VTIMEZONE
TZID:Europe/Zurich
X-LIC-LOCATION:Europe/Zurich
BEGIN:STANDARD
DTSTART:16011028T030000
RRULE:FREQ=YEARLY;BYDAY=-1SU;BYMONTH=10
TZOFFSETFROM:+0200
TZOFFSETTO:+0100
END:STANDARD
BEGIN:DAYLIGHT
DTSTART:16010325T020000
RRULE:FREQ=YEARLY;BYDAY=-1SU;BYMONTH=3
TZOFFSETFROM:+0100
TZOFFSETTO:+0200
END:DAYLIGHT
END:VTIMEZONE
BEGIN:VEVENT
CLASS:PUBLIC
UID:334c31a862f1947d1960aa1b35064b3e
DTSTAMP:20260420T152057Z
DTSTART;TZID=Europe/Zurich:20260225T084500
DTEND;TZID=Europe/Zurich:20260225T111500
LOCATION:Raum 06 - violett, Stiftung WBK
DESCRIPTION:Mit: Knörr Céline\, Parizzi Lauro Andrea\n\nTermine:\n25.02.2026 08:45\n26.02.2026 08:45\n03.03.2026 08:45\n04.03.2026 08:45\n05.03.2026 08:45\n10.03.2026 08:45\n11.03.2026 08:45\n12.03.2026 08:45\n17.03.2026 08:45\n18.03.2026 08:45\n19.03.2026 08:45\n24.03.2026 08:45\n25.03.2026 08:45\n26.03.2026 08:45\n31.03.2026 08:45\n01.04.2026 08:45\n02.04.2026 08:45\n07.04.2026 08:45\n08.04.2026 08:45\n09.04.2026 08:45\n14.04.2026 08:45\n15.04.2026 08:45\n16.04.2026 08:45\n21.04.2026 08:45
URL;VALUE=URI:
SUMMARY:26W-LACH-201i Deutsch A1.2 intensiv
LAST-MODIFIED:20260420T132058Z
RRULE:FREQ=WEEKLY;UNTIL=20260421T091500Z;WKST=SU;BYDAY=TU,WE,TH
END:VEVENT
END:VCALENDAR